BEGIN:VCALENDAR
VERSION:2.0
PRODID:-//Top Gun Sportsman&#039;s Club - ECPv6.6.4.2//NONSGML v1.0//EN
CALSCALE:GREGORIAN
METHOD:PUBLISH
X-ORIGINAL-URL:https://topgunsc.com
X-WR-CALDESC:Events for Top Gun Sportsman&#039;s Club
REFRESH-INTERVAL;VALUE=DURATION:PT1H
X-Robots-Tag:noindex
X-PUBLISHED-TTL:PT1H
BEGIN:VTIMEZONE
TZID:UTC
BEGIN:STANDARD
TZOFFSETFROM:+0000
TZOFFSETTO:+0000
TZNAME:UTC
DTSTART:20240101T000000
END:STANDARD
END:VTIMEZONE
BEGIN:VEVENT
DTSTART;TZID=UTC:20241207T090000
DTEND;TZID=UTC:20241207T170000
DTSTAMP:20260421T122128
CREATED:20231202T090055Z
LAST-MODIFIED:20241007T174326Z
UID:391-1733562000-1733590800@topgunsc.com
SUMMARY:Toys for Tots Sporting Clays Fundraiser
DESCRIPTION:Stay Tuned!  Our 2024 Toys for Tots Sporting Clays Fundraiser signups will be announced soon. 
URL:https://topgunsc.com/event/toys-for-tots/
LOCATION:Top Gun Sportsman’s Club\, 4273 Highway 47\, Lonedell\, MO\, 63060\, United States
ATTACH;FMTTYPE=image/gif:https://topgunsc.com/wp-content/uploads/2017/11/toys-for-tots-logo.gif
ORGANIZER;CN="Top Gun Shooting Sports":MAILTO:stan@topgunsc.com
END:VEVENT
END:VCALENDAR